BEGIN:VCALENDAR
VERSION:2.0
PRODID:-//Dance Alliance of Camarillo - ECPv6.15.18//NONSGML v1.0//EN
CALSCALE:GREGORIAN
METHOD:PUBLISH
X-WR-CALNAME:Dance Alliance of Camarillo
X-ORIGINAL-URL:https://dancealliance805.com
X-WR-CALDESC:Events for Dance Alliance of Camarillo
REFRESH-INTERVAL;VALUE=DURATION:PT1H
X-Robots-Tag:noindex
X-PUBLISHED-TTL:PT1H
BEGIN:VTIMEZONE
TZID:UTC
BEGIN:STANDARD
TZOFFSETFROM:+0000
TZOFFSETTO:+0000
TZNAME:UTC
DTSTART:20220101T000000
END:STANDARD
END:VTIMEZONE
BEGIN:VEVENT
DTSTART;VALUE=DATE:20260406
DTEND;VALUE=DATE:20260413
DTSTAMP:20260421T173409
CREATED:20240712T223602Z
LAST-MODIFIED:20250628T180237Z
UID:3859-1775433600-1776038399@dancealliance805.com
SUMMARY:No Class - Spring Break
DESCRIPTION:
URL:https://dancealliance805.com/event/no-class-spring-break-3/
LOCATION:CA
END:VEVENT
BEGIN:VEVENT
DTSTART;VALUE=DATE:20260216
DTEND;VALUE=DATE:20260223
DTSTAMP:20260421T173409
CREATED:20240712T223712Z
LAST-MODIFIED:20250628T180343Z
UID:3861-1771200000-1771804799@dancealliance805.com
SUMMARY:No Class - Presidents Week
DESCRIPTION:*Note – Elite Company may have rehearsals
URL:https://dancealliance805.com/event/no-class-ski-week-2/
LOCATION:CA
END:VEVENT
BEGIN:VEVENT
DTSTART;VALUE=DATE:20260120
DTEND;VALUE=DATE:20260122
DTSTAMP:20260421T173409
CREATED:20250907T215645Z
LAST-MODIFIED:20250907T215645Z
UID:4016-1768867200-1769039999@dancealliance805.com
SUMMARY:4th Annual Winter Showcase
DESCRIPTION:No Classes In Studio
URL:https://dancealliance805.com/event/4th-annual-winter-showcase/
LOCATION:Rancho Campana Performing Arts Center\, 4235 Mar Vista Dr\, Camarillo\, CA\, 93010\, United States
END:VEVENT
BEGIN:VEVENT
DTSTART;TZID=UTC:20260119T000000
DTEND;TZID=UTC:20260119T235900
DTSTAMP:20260421T173409
CREATED:20250815T005835Z
LAST-MODIFIED:20260113T010309Z
UID:3999-1768780800-1768867140@dancealliance805.com
SUMMARY:No Class - MLK Day
DESCRIPTION:
URL:https://dancealliance805.com/event/no-class-mlk/
LOCATION:CA
END:VEVENT
BEGIN:VEVENT
DTSTART;VALUE=DATE:20251222
DTEND;VALUE=DATE:20260105
DTSTAMP:20260421T173409
CREATED:20240712T224733Z
LAST-MODIFIED:20250628T180600Z
UID:3869-1766361600-1767571199@dancealliance805.com
SUMMARY:No Class - Winter Break
DESCRIPTION:
URL:https://dancealliance805.com/event/no-class-winter-break-4/
LOCATION:CA
END:VEVENT
BEGIN:VEVENT
DTSTART;VALUE=DATE:20251124
DTEND;VALUE=DATE:20251201
DTSTAMP:20260421T173409
CREATED:20240712T224343Z
LAST-MODIFIED:20250628T180428Z
UID:3867-1763942400-1764547199@dancealliance805.com
SUMMARY:No Class - Thanksgiving
DESCRIPTION:
URL:https://dancealliance805.com/event/no-class-thanksgiving-3/
LOCATION:CA
END:VEVENT
BEGIN:VEVENT
DTSTART;VALUE=DATE:20251031
DTEND;VALUE=DATE:20251101
DTSTAMP:20260421T173409
CREATED:20230708T011433Z
LAST-MODIFIED:20250628T180516Z
UID:3759-1761868800-1761955199@dancealliance805.com
SUMMARY:No Class - Halloween
DESCRIPTION:
URL:https://dancealliance805.com/event/no-class-halloween-2/
LOCATION:CA
END:VEVENT
BEGIN:VEVENT
DTSTART;VALUE=DATE:20250811
DTEND;VALUE=DATE:20250815
DTSTAMP:20260421T173409
CREATED:20250628T180859Z
LAST-MODIFIED:20250628T180916Z
UID:3961-1754870400-1755215999@dancealliance805.com
SUMMARY:Summer Session 3 (Ages 7-11)
DESCRIPTION:
URL:https://dancealliance805.com/event/summer-session-3/
LOCATION:CA
END:VEVENT
BEGIN:VEVENT
DTSTART;VALUE=DATE:20250804
DTEND;VALUE=DATE:20250808
DTSTAMP:20260421T173409
CREATED:20250410T013640Z
LAST-MODIFIED:20250410T013640Z
UID:3935-1754265600-1754611199@dancealliance805.com
SUMMARY:Swiftie “Eras” Camp (Ages 3-6)
DESCRIPTION:
URL:https://dancealliance805.com/event/swiftie-eras-camp-ages-3-6/
LOCATION:CA
END:VEVENT
BEGIN:VEVENT
DTSTART;VALUE=DATE:20250804
DTEND;VALUE=DATE:20250808
DTSTAMP:20260421T173409
CREATED:20250410T013609Z
LAST-MODIFIED:20250410T013609Z
UID:3933-1754265600-1754611199@dancealliance805.com
SUMMARY:Summer Session 2 (Ages 7+)
DESCRIPTION:
URL:https://dancealliance805.com/event/summer-session-2-ages-7/
LOCATION:CA
END:VEVENT
BEGIN:VEVENT
DTSTART;VALUE=DATE:20250728
DTEND;VALUE=DATE:20250801
DTSTAMP:20260421T173409
CREATED:20250410T013326Z
LAST-MODIFIED:20250410T013326Z
UID:3927-1753660800-1754006399@dancealliance805.com
SUMMARY:Elite Summer Intensive
DESCRIPTION:
URL:https://dancealliance805.com/event/elite-summer-intensive/
LOCATION:CA
END:VEVENT
BEGIN:VEVENT
DTSTART;VALUE=DATE:20250714
DTEND;VALUE=DATE:20250718
DTSTAMP:20260421T173409
CREATED:20250410T013526Z
LAST-MODIFIED:20250410T013526Z
UID:3931-1752451200-1752796799@dancealliance805.com
SUMMARY:Summer Session 1 (Ages 7+)
DESCRIPTION:
URL:https://dancealliance805.com/event/summer-session-1-ages-7/
LOCATION:CA
END:VEVENT
BEGIN:VEVENT
DTSTART;VALUE=DATE:20250714
DTEND;VALUE=DATE:20250718
DTSTAMP:20260421T173409
CREATED:20250410T013430Z
LAST-MODIFIED:20250410T013430Z
UID:3929-1752451200-1752796799@dancealliance805.com
SUMMARY:Disney Camp (Ages 3-6)
DESCRIPTION:
URL:https://dancealliance805.com/event/disney-camp-ages-3-6/
LOCATION:CA
END:VEVENT
BEGIN:VEVENT
DTSTART;VALUE=DATE:20250708
DTEND;VALUE=DATE:20250712
DTSTAMP:20260421T173409
CREATED:20250410T013756Z
LAST-MODIFIED:20250410T013756Z
UID:3937-1751932800-1752278399@dancealliance805.com
SUMMARY:Wicked Camp (Ages 3-6)
DESCRIPTION:
URL:https://dancealliance805.com/event/wicked-camp-ages-3-6/
LOCATION:CA
END:VEVENT
BEGIN:VEVENT
DTSTART;VALUE=DATE:20250620
DTEND;VALUE=DATE:20250621
DTSTAMP:20260421T173409
CREATED:20250410T011351Z
LAST-MODIFIED:20250410T011459Z
UID:3923-1750377600-1750463999@dancealliance805.com
SUMMARY:Dress Rehearsal
DESCRIPTION:
URL:https://dancealliance805.com/event/dress-rehearsal/
LOCATION:CA
END:VEVENT
BEGIN:VEVENT
DTSTART;VALUE=DATE:20250621
DTEND;VALUE=DATE:20250622
DTSTAMP:20260421T173409
CREATED:20240712T223227Z
LAST-MODIFIED:20250410T011227Z
UID:3855-1750464000-1750550399@dancealliance805.com
SUMMARY:2025 Recital
DESCRIPTION:
URL:https://dancealliance805.com/event/2025-recital/
LOCATION:Rancho Campana Performing Arts Center\, 4235 Mar Vista Dr\, Camarillo\, CA\, 93010\, United States
END:VEVENT
BEGIN:VEVENT
DTSTART;VALUE=DATE:20250607
DTEND;VALUE=DATE:20250608
DTSTAMP:20260421T173409
CREATED:20250410T011621Z
LAST-MODIFIED:20250410T011621Z
UID:3925-1749254400-1749340799@dancealliance805.com
SUMMARY:Picture Day
DESCRIPTION:
URL:https://dancealliance805.com/event/picture-day/
LOCATION:CA
END:VEVENT
BEGIN:VEVENT
DTSTART;VALUE=DATE:20241221
DTEND;VALUE=DATE:20241222
DTSTAMP:20260421T173409
CREATED:20240910T022617Z
LAST-MODIFIED:20241118T231854Z
UID:3905-1734739200-1734825599@dancealliance805.com
SUMMARY:3rd Annual Winter Showcase
DESCRIPTION:No Classes In Studio
URL:https://dancealliance805.com/event/3rd-annual-winter-showcase/
LOCATION:Rancho Campana Performing Arts Center\, 4235 Mar Vista Dr\, Camarillo\, CA\, 93010\, United States
END:VEVENT
BEGIN:VEVENT
DTSTART;VALUE=DATE:20240625
DTEND;VALUE=DATE:20240627
DTSTAMP:20260421T173409
CREATED:20230812T163354Z
LAST-MODIFIED:20230920T215014Z
UID:3804-1719273600-1719446399@dancealliance805.com
SUMMARY:2024 Recital
DESCRIPTION:
URL:https://dancealliance805.com/event/2024-recital-2/
LOCATION:Rancho Campana Performing Arts Center\, 4235 Mar Vista Dr\, Camarillo\, CA\, 93010\, United States
END:VEVENT
BEGIN:VEVENT
DTSTART;VALUE=DATE:20240524
DTEND;VALUE=DATE:20240528
DTSTAMP:20260421T173409
CREATED:20230708T012141Z
LAST-MODIFIED:20230812T162551Z
UID:3770-1716508800-1716854399@dancealliance805.com
SUMMARY:No Class - Memorial Weekend
DESCRIPTION:
URL:https://dancealliance805.com/event/no-class-memorial-weekend-2/
LOCATION:CA
END:VEVENT
BEGIN:VEVENT
DTSTART;VALUE=DATE:20240401
DTEND;VALUE=DATE:20240408
DTSTAMP:20260421T173409
CREATED:20230708T011959Z
LAST-MODIFIED:20230812T162731Z
UID:3768-1711929600-1712534399@dancealliance805.com
SUMMARY:No Class - Spring Break
DESCRIPTION:
URL:https://dancealliance805.com/event/no-class-spring-break-2/
LOCATION:CA
END:VEVENT
BEGIN:VEVENT
DTSTART;VALUE=DATE:20240219
DTEND;VALUE=DATE:20240226
DTSTAMP:20260421T173409
CREATED:20230708T011905Z
LAST-MODIFIED:20230708T011905Z
UID:3766-1708300800-1708905599@dancealliance805.com
SUMMARY:No Class - Ski Week
DESCRIPTION:*Note – Elite Company may have rehearsals
URL:https://dancealliance805.com/event/no-class-ski-week/
LOCATION:CA
END:VEVENT
BEGIN:VEVENT
DTSTART;VALUE=DATE:20241223
DTEND;VALUE=DATE:20250106
DTSTAMP:20260421T173409
CREATED:20240712T223931Z
LAST-MODIFIED:20240712T224604Z
UID:3865-1734912000-1736121599@dancealliance805.com
SUMMARY:No Class - Winter Break
DESCRIPTION:
URL:https://dancealliance805.com/event/no-class-winter-break-3/
LOCATION:CA
END:VEVENT
BEGIN:VEVENT
DTSTART;VALUE=DATE:20231224
DTEND;VALUE=DATE:20240108
DTSTAMP:20260421T173409
CREATED:20230708T011747Z
LAST-MODIFIED:20230812T162614Z
UID:3764-1703376000-1704671999@dancealliance805.com
SUMMARY:No Class - Winter Break
DESCRIPTION:
URL:https://dancealliance805.com/event/no-class-winter-break-2/
LOCATION:CA
END:VEVENT
BEGIN:VEVENT
DTSTART;VALUE=DATE:20231223
DTEND;VALUE=DATE:20231224
DTSTAMP:20260421T173409
CREATED:20230812T162939Z
LAST-MODIFIED:20230812T163604Z
UID:3798-1703289600-1703375999@dancealliance805.com
SUMMARY:Dance Alliance Winter Showcase
DESCRIPTION:Dance Alliance 2nd Annual Winter Showcase at Rancho Campana High School Performing Arts Center
URL:https://dancealliance805.com/event/wintershowcase/
LOCATION:CA
END:VEVENT
BEGIN:VEVENT
DTSTART;VALUE=DATE:20231120
DTEND;VALUE=DATE:20231127
DTSTAMP:20260421T173409
CREATED:20230708T011626Z
LAST-MODIFIED:20230812T162705Z
UID:3762-1700438400-1701043199@dancealliance805.com
SUMMARY:No Class - Thanksgiving
DESCRIPTION:
URL:https://dancealliance805.com/event/no-class-thanksgiving-2/
LOCATION:CA
END:VEVENT
BEGIN:VEVENT
DTSTART;VALUE=DATE:20230826
DTEND;VALUE=DATE:20230827
DTSTAMP:20260421T173409
CREATED:20230708T012236Z
LAST-MODIFIED:20230708T012236Z
UID:3757-1693008000-1693094399@dancealliance805.com
SUMMARY:Dance Alliance Open House
DESCRIPTION:
URL:https://dancealliance805.com/event/dance-alliance-open-house/
LOCATION:CA
END:VEVENT
BEGIN:VEVENT
DTSTART;VALUE=DATE:20230624
DTEND;VALUE=DATE:20230625
DTSTAMP:20260421T173409
CREATED:20230812T163129Z
LAST-MODIFIED:20230812T163129Z
UID:3800-1687564800-1687651199@dancealliance805.com
SUMMARY:2024 Dress Rehearsal
DESCRIPTION:
URL:https://dancealliance805.com/event/2024-dress-rehearsal/
LOCATION:Rancho Campana Performing Arts Center\, 4235 Mar Vista Dr\, Camarillo\, CA\, 93010\, United States
END:VEVENT
BEGIN:VEVENT
DTSTART;VALUE=DATE:20230624
DTEND;VALUE=DATE:20230625
DTSTAMP:20260421T173409
CREATED:20230110T013416Z
LAST-MODIFIED:20230506T005258Z
UID:3616-1687564800-1687651199@dancealliance805.com
SUMMARY:2023 Recital
DESCRIPTION:https://dancestudio-pro.com/tickets/index.php?id=zaqlxajd29jd2572cd1764cc2b09jasdklj21dx572cd1764ccd3
URL:https://dancealliance805.com/event/2023-recital/
LOCATION:Rancho Campana Performing Arts Center\, 4235 Mar Vista Dr\, Camarillo\, CA\, 93010\, United States
END:VEVENT
BEGIN:VEVENT
DTSTART;VALUE=DATE:20230623
DTEND;VALUE=DATE:20230624
DTSTAMP:20260421T173409
CREATED:20221003T150424Z
LAST-MODIFIED:20230506T005155Z
UID:3447-1687478400-1687564799@dancealliance805.com
SUMMARY:2023 Recital
DESCRIPTION:https://dancestudio-pro.com/tickets/index.php?id=zaqlxajd29jd2572cd1764cc2b09jasdklj21dx572cd1764ccd3
URL:https://dancealliance805.com/event/2023-recital-rancho-campana-high-school/
LOCATION:Rancho Campana Performing Arts Center\, 4235 Mar Vista Dr\, Camarillo\, CA\, 93010\, United States
END:VEVENT
END:VCALENDAR